BEGIN:VCALENDAR
VERSION:2.0
PRODID:-//MPR - ECPv6.10.2//NONSGML v1.0//EN
CALSCALE:GREGORIAN
METHOD:PUBLISH
X-WR-CALNAME:MPR
X-ORIGINAL-URL:https://www.mprassessoria.com.br
X-WR-CALDESC:Eventos para MPR
REFRESH-INTERVAL;VALUE=DURATION:PT1H
X-Robots-Tag:noindex
X-PUBLISHED-TTL:PT1H
BEGIN:VTIMEZONE
TZID:America/Sao_Paulo
BEGIN:STANDARD
TZOFFSETFROM:-0300
TZOFFSETTO:-0300
TZNAME:-03
DTSTART:20230101T000000
END:STANDARD
END:VTIMEZONE
BEGIN:VEVENT
DTSTART;TZID=America/Sao_Paulo:20230319T070000
DTEND;TZID=America/Sao_Paulo:20230319T100000
DTSTAMP:20260424T074654
CREATED:20221220T051237Z
LAST-MODIFIED:20230106T021938Z
UID:5723-1679209200-1679220000@www.mprassessoria.com.br
SUMMARY:United Airlines NYC Half
DESCRIPTION:
URL:https://www.mprassessoria.com.br/evento/united-airlines-nyc-half/
CATEGORIES:Provas
ATTACH;FMTTYPE=image/jpeg:https://www.mprassessoria.com.br/wp-content/uploads/2022/12/nyc-half.jpg
END:VEVENT
END:VCALENDAR