BEGIN:VCALENDAR
VERSION:2.0
PRODID:-//MPR - ECPv6.10.2//NONSGML v1.0//EN
CALSCALE:GREGORIAN
METHOD:PUBLISH
X-WR-CALNAME:MPR
X-ORIGINAL-URL:https://www.mprassessoria.com.br
X-WR-CALDESC:Eventos para MPR
REFRESH-INTERVAL;VALUE=DURATION:PT1H
X-Robots-Tag:noindex
X-PUBLISHED-TTL:PT1H
BEGIN:VTIMEZONE
TZID:America/Sao_Paulo
BEGIN:STANDARD
TZOFFSETFROM:-0300
TZOFFSETTO:-0300
TZNAME:-03
DTSTART:20230101T000000
END:STANDARD
END:VTIMEZONE
BEGIN:VEVENT
DTSTART;TZID=America/Sao_Paulo:20230603T065500
DTEND;TZID=America/Sao_Paulo:20230603T140000
DTSTAMP:20260420T051917
CREATED:20230224T185638Z
LAST-MODIFIED:20230323T144222Z
UID:7009-1685775300-1685800800@www.mprassessoria.com.br
SUMMARY:Meia Maratona de Porto Alegre
DESCRIPTION:
URL:https://www.mprassessoria.com.br/evento/meia-maratona-de-porto-alegre-2/
LOCATION:Porto Alegre\, Porto Alegre\, RS
CATEGORIES:Provas
ATTACH;FMTTYPE=image/png:https://www.mprassessoria.com.br/wp-content/uploads/2023/02/5.png
END:VEVENT
END:VCALENDAR